BEGIN:VCALENDAR
VERSION:2.0
PRODID:-//hacksw/handcal//NONSGML v1.0//EN
BEGIN:VEVENT
SUMMARY:Tournoi Poussins Talmont - ANNULE
UID:2b01ab40-4c5d-46b0-a973-7d96aeda47aa
DTSTART:20260410T220000Z
DTEND:20260411T220000Z
LOCATION:Localisation   
CATEGORIES:Sportif
STATUS:
URL;VALUE=URI:https://arc-sablais.sportsregions.fr/evenements/2026/04/11/tournoi-poussins-talmont-annule-2404362
END:VEVENT
END:VCALENDAR
