BEGIN:VCALENDAR
VERSION:2.0
PRODID:-//hacksw/handcal//NONSGML v1.0//EN
BEGIN:VEVENT
SUMMARY:Tournoi Sport Adapte de Noel
UID:97b7869c-e1ff-4f21-bb61-ca1ee5e1b133
DTSTART:20251221T230000Z
DTEND:20251222T230000Z
LOCATION:Localisation   
CATEGORIES:Manifestation
STATUS:
URL;VALUE=URI:https://arc-sablais.sportsregions.fr/evenements/2025/12/22/tournoi-sport-adapte-de-noel-2369873
END:VEVENT
END:VCALENDAR
